BEGIN:VCALENDAR
VERSION:2.0
PRODID:-//Plone.org//NONSGML plone.app.event//EN
X-WR-TIMEZONE:America/Sao_Paulo
BEGIN:VEVENT
SUMMARY:Depedida de 5 anos em [ Auditorio Nobre do CAD 1 - sem copa\, sagu
 ão parcial]
DTSTART;TZID=America/Sao_Paulo;VALUE=DATE-TIME:20271203T180000
DTEND;TZID=America/Sao_Paulo;VALUE=DATE-TIME:20271203T210000
DTSTAMP;VALUE=DATE-TIME:20260419T225922Z
UID:26a7667d1ef74f2b883d4572e94e88d5@150.164.76.86:8080
CREATED;VALUE=DATE-TIME:20260302T144500Z
DESCRIPTION:Apresentação das crianças\, com danças e vídeo. Equipamen
 tos necessários som\,microfone\, equipamento de projeção de imagem e so
 m.
LAST-MODIFIED;VALUE=DATE-TIME:20260304T192058Z
URL:http://150.164.76.86:8080/cac/agenda/preagenda/11412594649055358034
END:VEVENT
BEGIN:VTIMEZONE
TZID:America/Sao_Paulo
X-LIC-LOCATION:America/Sao_Paulo
BEGIN:DAYLIGHT
DTSTART;VALUE=DATE-TIME:20271017T010000
TZNAME:BRST
TZOFFSETFROM:-0300
TZOFFSETTO:-0200
END:DAYLIGHT
END:VTIMEZONE
END:VCALENDAR
