BEGIN:VCALENDAR
VERSION:2.0
PRODID:-//Plone.org//NONSGML plone.app.event//EN
X-WR-TIMEZONE:America/Sao_Paulo
BEGIN:VEVENT
SUMMARY:II CURSO DE FORMAÇÃO CONTINUADA DE PROFESSORES(AS) DA LICENCIATU
 RA EM EDUCAÇÃO DO CAMPO em [ Auditorio A104 do Cad 2]
DTSTART;TZID=America/Sao_Paulo;VALUE=DATE-TIME:20250311T080000
DTEND;TZID=America/Sao_Paulo;VALUE=DATE-TIME:20250315T180000
DTSTAMP;VALUE=DATE-TIME:20260419T120214Z
UID:a57afba5051e42818218471bf56fc367@150.164.76.86:8080
CREATED;VALUE=DATE-TIME:20241031T185642Z
DESCRIPTION:<p>Para o Seminário serão necessários equipamentos de som e
  vídeo. II CURSO DE FORMAÇÃO CONTINUADA DE PROFESSORES(AS) DA LICENCIAT
 URA EM EDUCAÇÃO DO CAMPO 12/03/2025 Manhã 8:00 – 12:00 Tarde - 14:00-
  18:00 8:00 – Abertura- Mística das Licenciaturas Mesa 2- Formação po
 r área de conhecimento\, a gestão de processos educativos e comunitário
 s e a alternância: reflexões sobre as transformações na Universidade e
  nos territórios 9:00- 12- Mesa 1- Balanço Histórico- Avanços e desafi
 os das Licenciaturas em Educação do Campo 13/03/2025 Manhã 8:00 – 12:
 00 Tarde - 14:00- 18:00 Mesa 3- Formação por área de conhecimento- grup
 os de trabalhos- Areas- Arte Literatura de Linguagens- Lal\, Ciências da 
 Vida e da Natureza- CVN\, Ciências Sociais e Humanas- CSH \, Matemática 
 e Ciências Agrárias- Cinco salas de aula Sistematização nos grupos de 
 trabalho Cinco salas de aula 14/03/2025 Manhã 8:00 – 12:00 Tarde - 14:0
 0- 18:00 Socialização dos grupos de trabalhos por áreas de conhecimento
  Auditório em plenário Socialização dos grupos de trabalhos por áreas
  de conhecimento Auditório em plenário 15/03/2025 Manhã 8:00 – 12:00 
 Tarde - 14:00- 18:00 Mesa Desafios para consolidação das Ledocs: Altern
 ância\,inserção dos egressos na escola básica\, Relação com a educa
 ção escolar quilombola\, Relação com a educação escolar indigena- Au
 ditório Encerramento Auditório</p>
LAST-MODIFIED;VALUE=DATE-TIME:20241031T190955Z
URL:http://150.164.76.86:8080/cac/agenda/copy_of_7272038101530475263
END:VEVENT
BEGIN:VTIMEZONE
TZID:America/Sao_Paulo
X-LIC-LOCATION:America/Sao_Paulo
BEGIN:STANDARD
DTSTART;VALUE=DATE-TIME:20250215T230000
TZNAME:BRT
TZOFFSETFROM:-0200
TZOFFSETTO:-0300
END:STANDARD
END:VTIMEZONE
END:VCALENDAR
