BEGIN:VCALENDAR
VERSION:2.0
PRODID:-//Plone.org//NONSGML plone.app.event//EN
X-WR-TIMEZONE:America/Sao_Paulo
BEGIN:VEVENT
SUMMARY:SemQ 2020 em []
DTSTART;TZID=America/Sao_Paulo;VALUE=DATE-TIME:20201002T120000
DTEND;TZID=America/Sao_Paulo;VALUE=DATE-TIME:20201002T180000
DTSTAMP;VALUE=DATE-TIME:20260424T171904Z
UID:6e84b565e62e4d418e69ba04e8a4ac3e@150.164.76.86:8080
CREATED;VALUE=DATE-TIME:20200213T121004Z
DESCRIPTION:A Semana da Química 2020 é um evento destinado à todos os e
 studantes\, técnicos e servidores da UFMG que têm contato com a química
  ou possuem interesse de aprender mais sobre essa ciência. \nNa SemQ 2020
 \, o público esperado é aproximadamente 100 pessoas de acordo com o núm
 ero de pessoas presentes na SemQ 2019. Para o acontecimento do evento são
  necessário microfone\, datashow e caixa de som\npara as apresentações.
  Para um ambiente agradável\, solicitamos também a possibilidade do uso 
 de ar condicionado. \nO evento contará com 3 dias de palestras ( 28/09\, 
 30/09 e 02/10) no horário de 12:00 às 17 horas. E também\, será realiz
 ado palestra no dia 01/10 de 18:00 às 21:00 horas\, e já\nestamos olhand
 o a possibilidade deste dia ser avaliado como atividade do noturno. \nNo d
 ia 29/09 não pretendemos realizar atividades no CAD3\, será um dia desti
 nado à visitas técnicas\, somente. \n\nA abertura do evento será dia 28
 /09 às 12:00 horas\, e o encerramento da SemQ 2020 será dia 02/10 às 18
 :00 horas. \n\nA Dativa Consultoria Química Júnior é a responsável pel
 a organização e execução do evento sob à orientação e supervisão d
 o Professor Rochel Lago do Departamento de Química. \n\nA responsável pe
 lo agendamento do CAD3\, sou eu\, Rozana Martins. O meu contato de celular
  já foi inserido anteriormente. \n\nDesde já agradeço\, \n\nAguardo o r
 etorno!
LAST-MODIFIED;VALUE=DATE-TIME:20230111T201133Z
URL:http://150.164.76.86:8080/cac/agenda/copy_of_6167215876646404666
END:VEVENT
BEGIN:VTIMEZONE
TZID:America/Sao_Paulo
X-LIC-LOCATION:America/Sao_Paulo
BEGIN:STANDARD
DTSTART;VALUE=DATE-TIME:20200215T230000
TZNAME:BRT
TZOFFSETFROM:-0200
TZOFFSETTO:-0300
END:STANDARD
END:VTIMEZONE
END:VCALENDAR
