BEGIN:VCALENDAR
VERSION:2.0
PRODID:-//Plone.org//NONSGML plone.app.event//EN
X-WR-TIMEZONE:America/Sao_Paulo
BEGIN:VEVENT
SUMMARY:ASSEMBLEIA DO APUBH em [ Arena da praça de serviços]
DTSTART;TZID=America/Sao_Paulo;VALUE=DATE-TIME:20220316T080000
DTEND;TZID=America/Sao_Paulo;VALUE=DATE-TIME:20220316T190000
DTSTAMP;VALUE=DATE-TIME:20260422T094256Z
UID:68a8c32697384646acd164461978d0f0@150.164.76.86:8080
CREATED;VALUE=DATE-TIME:20220310T130819Z
DESCRIPTION:Assembleia Geral Extraordinária do APUBH a ser realizada dia 
 16/03/2022\, público aproximado de 200 pessoas\, será emprestado pela CA
 C caixas de som e microfones\, será colocado no centro da arena tenda\, m
 esas e cadeiras.
LAST-MODIFIED;VALUE=DATE-TIME:20220314T135722Z
URL:http://150.164.76.86:8080/cac/agenda/copy_of_4974460483793268790
END:VEVENT
BEGIN:VTIMEZONE
TZID:America/Sao_Paulo
X-LIC-LOCATION:America/Sao_Paulo
BEGIN:STANDARD
DTSTART;VALUE=DATE-TIME:20220219T230000
TZNAME:BRT
TZOFFSETFROM:-0200
TZOFFSETTO:-0300
END:STANDARD
END:VTIMEZONE
END:VCALENDAR
