BEGIN:VCALENDAR
VERSION:2.0
PRODID:-//Plone.org//NONSGML plone.app.event//EN
X-WR-TIMEZONE:America/Sao_Paulo
BEGIN:VEVENT
SUMMARY:Solenidade oficial de colação de grau do Curso de Graduação em
  Nutrição em [ Auditorio Nobre do CAD 1]
DTSTART;TZID=America/Sao_Paulo;VALUE=DATE-TIME:20200709T190000
DTEND;TZID=America/Sao_Paulo;VALUE=DATE-TIME:20200709T210000
DTSTAMP;VALUE=DATE-TIME:20260424T210605Z
UID:8e7edcc1209d49b68fb2415d66a1e175@150.164.76.86:8080
CREATED;VALUE=DATE-TIME:20200219T202649Z
DESCRIPTION:<p>Solenidade oficial de colação de grau curso de Nutrição
 .</p>
LAST-MODIFIED;VALUE=DATE-TIME:20200219T203108Z
URL:http://150.164.76.86:8080/cac/agenda/copy_of_4601264652839373612
END:VEVENT
BEGIN:VTIMEZONE
TZID:America/Sao_Paulo
X-LIC-LOCATION:America/Sao_Paulo
BEGIN:STANDARD
DTSTART;VALUE=DATE-TIME:20200215T230000
TZNAME:BRT
TZOFFSETFROM:-0200
TZOFFSETTO:-0300
END:STANDARD
END:VTIMEZONE
END:VCALENDAR
