BEGIN:VCALENDAR
VERSION:2.0
PRODID:-//Plone.org//NONSGML plone.app.event//EN
X-WR-TIMEZONE:America/Sao_Paulo
BEGIN:VEVENT
SUMMARY:5º Colóquio de Comunicação Pública e democracia em [ Auditór
 io B106 do CAD3]
DTSTART;TZID=America/Sao_Paulo;VALUE=DATE-TIME:20230904T080000
DTEND;TZID=America/Sao_Paulo;VALUE=DATE-TIME:20230905T190000
DTSTAMP;VALUE=DATE-TIME:20260421T091630Z
UID:31077746376f4a059ef073d9e3b76220@150.164.76.86:8080
CREATED;VALUE=DATE-TIME:20230818T194337Z
DESCRIPTION:<p>Em processo de construção da programação</p>
LAST-MODIFIED;VALUE=DATE-TIME:20230901T122724Z
URL:http://150.164.76.86:8080/cac/agenda/copy_of_14368171383845113628
END:VEVENT
BEGIN:VTIMEZONE
TZID:America/Sao_Paulo
X-LIC-LOCATION:America/Sao_Paulo
BEGIN:STANDARD
DTSTART;VALUE=DATE-TIME:20230225T230000
TZNAME:BRT
TZOFFSETFROM:-0200
TZOFFSETTO:-0300
END:STANDARD
END:VTIMEZONE
END:VCALENDAR
