BEGIN:VCALENDAR
VERSION:2.0
PRODID:-//Plone.org//NONSGML plone.app.event//EN
X-WR-TIMEZONE:America/Sao_Paulo
BEGIN:VEVENT
SUMMARY:Formação do NERER PAMPULHA  - Relato de práticas  pedagógicas
  realizadas com a temática  indígena. em [ Auditório B106 do CAD3]
DTSTART;TZID=America/Sao_Paulo;VALUE=DATE-TIME:20240828T080000
DTEND;TZID=America/Sao_Paulo;VALUE=DATE-TIME:20240828T200000
DTSTAMP;VALUE=DATE-TIME:20260419T222258Z
UID:db3b613455ca4b8f9c67c82a6b8a6292@150.164.76.86:8080
CREATED;VALUE=DATE-TIME:20240814T161132Z
DESCRIPTION:<p>Data show  e som.</p>
LAST-MODIFIED;VALUE=DATE-TIME:20240819T132934Z
URL:http://150.164.76.86:8080/cac/agenda/copy_of_11927638746515468515
END:VEVENT
BEGIN:VTIMEZONE
TZID:America/Sao_Paulo
X-LIC-LOCATION:America/Sao_Paulo
BEGIN:STANDARD
DTSTART;VALUE=DATE-TIME:20240217T230000
TZNAME:BRT
TZOFFSETFROM:-0200
TZOFFSETTO:-0300
END:STANDARD
END:VTIMEZONE
END:VCALENDAR
