BEGIN:VCALENDAR
VERSION:2.0
PRODID:-//Plone.org//NONSGML plone.app.event//EN
X-WR-TIMEZONE:America/Sao_Paulo
BEGIN:VEVENT
SUMMARY:Concurso Letras Libras em [ Auditorio A102 do Cad 2 Auditorio A104
  do Cad 2 Outros espacos]
DTSTART;TZID=America/Sao_Paulo;VALUE=DATE-TIME:20230625T060000
DTEND;TZID=America/Sao_Paulo;VALUE=DATE-TIME:20230625T220000
DTSTAMP;VALUE=DATE-TIME:20260421T115833Z
UID:a4861a5c5c724685b557d0d16e998653@150.164.76.86:8080
CREATED;VALUE=DATE-TIME:20230602T152012Z
DESCRIPTION:<p>concurso letras libras</p>
LAST-MODIFIED;VALUE=DATE-TIME:20230619T134513Z
URL:http://150.164.76.86:8080/cac/agenda/copy_of_11059246799122197689
END:VEVENT
BEGIN:VTIMEZONE
TZID:America/Sao_Paulo
X-LIC-LOCATION:America/Sao_Paulo
BEGIN:STANDARD
DTSTART;VALUE=DATE-TIME:20230225T230000
TZNAME:BRT
TZOFFSETFROM:-0200
TZOFFSETTO:-0300
END:STANDARD
END:VTIMEZONE
END:VCALENDAR
