BEGIN:VCALENDAR
VERSION:2.0
PRODID:-//Plone.org//NONSGML plone.app.event//EN
X-WR-TIMEZONE:America/Sao_Paulo
BEGIN:VEVENT
SUMMARY:Montagem/preparação - Recepção de calouros UFMG 1º/2022 em [ 
 Saguao da Reitoria Auditorio da Reitoria Gramado da Reitoria Entorno da Pr
 aca de Servicos Auditorio 1A do CAD 1 Auditorio 2A do CAD 1 Auditorio A102
  do Cad 2 Auditorio A104 do Cad 2 Outros espacos Arena da praça de servi
 ços Auditório B302 do CAD 3 Auditório B101/102 do CAD 3 Auditório B301
  do CAD 3]
DTSTART;TZID=America/Sao_Paulo;VALUE=DATE-TIME:20220324T070000
DTEND;TZID=America/Sao_Paulo;VALUE=DATE-TIME:20220325T220000
DTSTAMP;VALUE=DATE-TIME:20260422T111711Z
UID:a84f49539177431eba2f2343612c5607@150.164.76.86:8080
CREATED;VALUE=DATE-TIME:20220128T144846Z
DESCRIPTION:<p>Montagem e preparação</p>
LAST-MODIFIED;VALUE=DATE-TIME:20230111T201138Z
URL:http://150.164.76.86:8080/cac/agenda/copy_of_11044568677673262992
END:VEVENT
BEGIN:VTIMEZONE
TZID:America/Sao_Paulo
X-LIC-LOCATION:America/Sao_Paulo
BEGIN:STANDARD
DTSTART;VALUE=DATE-TIME:20220219T230000
TZNAME:BRT
TZOFFSETFROM:-0200
TZOFFSETTO:-0300
END:STANDARD
END:VTIMEZONE
END:VCALENDAR
