BEGIN:VCALENDAR
VERSION:2.0
PRODID:-//Plone.org//NONSGML plone.app.event//EN
X-WR-TIMEZONE:America/Sao_Paulo
BEGIN:VEVENT
SUMMARY:SemQ 2020 em []
DTSTART;TZID=America/Sao_Paulo;VALUE=DATE-TIME:20201001T180000
DTEND;TZID=America/Sao_Paulo;VALUE=DATE-TIME:20201001T210000
DTSTAMP;VALUE=DATE-TIME:20260424T171905Z
UID:4e5070fb3ffb496e9a4653f613853e56@150.164.76.86:8080
CREATED;VALUE=DATE-TIME:20200213T121050Z
DESCRIPTION:<p>A Semana da Química 2020 é um evento destinado à todos o
 s estudantes\, técnicos e servidores da UFMG que têm contato com a quím
 ica ou possuem interesse de aprender mais sobre essa ciência. Na SemQ 202
 0\, o público esperado é aproximadamente 100 pessoas de acordo com o nú
 mero de pessoas presentes na SemQ 2019. Para o acontecimento do evento sã
 o necessário microfone\, datashow e caixa de som para as apresentações.
  Para um ambiente agradável\, solicitamos também a possibilidade do uso 
 de ar condicionado. O evento contará com 3 dias de palestras ( 28/09\, 30
 /09 e 02/10) no horário de 12:00 às 17 horas. E também\, será realizad
 o palestra no dia 01/10 de 18:00 às 21:00 horas\, e já estamos olhando a
  possibilidade deste dia ser avaliado como atividade do noturno. No dia 29
 /09 não pretendemos realizar atividades no CAD3\, será um dia destinado 
 à visitas técnicas\, somente. A abertura do evento será dia 28/09 às 1
 2:00 horas\, e o encerramento da SemQ 2020 será dia 02/10 às 18:00 horas
 . A Dativa Consultoria Química Júnior é a responsável pela organizaç
 ão e execução do evento sob à orientação e supervisão do Professor 
 Rochel Lago do Departamento de Química. A responsável pelo agendamento d
 o CAD3\, sou eu\, Rozana Martins. O meu contato de celular já foi inserid
 o anteriormente. Desde já agradeço\, Aguardo o retorno!</p>
LAST-MODIFIED;VALUE=DATE-TIME:20230111T201056Z
URL:http://150.164.76.86:8080/cac/agenda/copy2_of_6167215876646404666
END:VEVENT
BEGIN:VTIMEZONE
TZID:America/Sao_Paulo
X-LIC-LOCATION:America/Sao_Paulo
BEGIN:STANDARD
DTSTART;VALUE=DATE-TIME:20200215T230000
TZNAME:BRT
TZOFFSETFROM:-0200
TZOFFSETTO:-0300
END:STANDARD
END:VTIMEZONE
END:VCALENDAR
