BEGIN:VCALENDAR
VERSION:2.0
PRODID:-//Plone.org//NONSGML plone.app.event//EN
X-WR-TIMEZONE:America/Sao_Paulo
BEGIN:VEVENT
SUMMARY:ASSEMBLEIA DO APUBH em [ Auditorio A104 do Cad 2]
DTSTART;TZID=America/Sao_Paulo;VALUE=DATE-TIME:20240620T080000
DTEND;TZID=America/Sao_Paulo;VALUE=DATE-TIME:20240620T190000
DTSTAMP;VALUE=DATE-TIME:20260420T025933Z
UID:fdc3c019bca042819e2dec3c4ebb4058@150.164.76.86:8080
CREATED;VALUE=DATE-TIME:20240617T175830Z
DESCRIPTION:ASSEMBLEIA ESTRAORDINÁRIA DO APUBH\nDATA: 20.06.2024\nPÚBLIC
 O: 200 PESSOAS\nHORÁRIO: 08H às 19H
LAST-MODIFIED;VALUE=DATE-TIME:20240617T180031Z
URL:http://150.164.76.86:8080/cac/agenda/9972521277990595159
END:VEVENT
BEGIN:VTIMEZONE
TZID:America/Sao_Paulo
X-LIC-LOCATION:America/Sao_Paulo
BEGIN:STANDARD
DTSTART;VALUE=DATE-TIME:20240217T230000
TZNAME:BRT
TZOFFSETFROM:-0200
TZOFFSETTO:-0300
END:STANDARD
END:VTIMEZONE
END:VCALENDAR
