BEGIN:VCALENDAR
VERSION:2.0
PRODID:-//Plone.org//NONSGML plone.app.event//EN
X-WR-TIMEZONE:America/Sao_Paulo
BEGIN:VEVENT
SUMMARY:Apresentação  Sistema Polaria - PGD em [ Auditorio da Reitoria]
DTSTART;TZID=America/Sao_Paulo;VALUE=DATE-TIME:20240718T070000
DTEND;TZID=America/Sao_Paulo;VALUE=DATE-TIME:20240718T210000
DTSTAMP;VALUE=DATE-TIME:20260419T234706Z
UID:8eccb1e69dae4640a11e6ce3d4fa0c9e@150.164.76.86:8080
CREATED;VALUE=DATE-TIME:20240708T173536Z
DESCRIPTION:<p>reserva para evento da PRORH e do Gabinete. <span> Aprese
 ntação Sistema Polaria - PGD</span></p>
LAST-MODIFIED;VALUE=DATE-TIME:20240710T122111Z
URL:http://150.164.76.86:8080/cac/agenda/9966664989868272968
END:VEVENT
BEGIN:VTIMEZONE
TZID:America/Sao_Paulo
X-LIC-LOCATION:America/Sao_Paulo
BEGIN:STANDARD
DTSTART;VALUE=DATE-TIME:20240217T230000
TZNAME:BRT
TZOFFSETFROM:-0200
TZOFFSETTO:-0300
END:STANDARD
END:VTIMEZONE
END:VCALENDAR
