BEGIN:VCALENDAR
VERSION:2.0
PRODID:-//Plone.org//NONSGML plone.app.event//EN
X-WR-TIMEZONE:America/Sao_Paulo
BEGIN:VEVENT
SUMMARY:Interseções em [ Auditorio A104 do Cad 2]
DTSTART;TZID=America/Sao_Paulo;VALUE=DATE-TIME:20230615T080000
DTEND;TZID=America/Sao_Paulo;VALUE=DATE-TIME:20230616T200000
DTSTAMP;VALUE=DATE-TIME:20260421T121826Z
UID:925bda1b11d54f10916305ef05d79985@150.164.76.86:8080
CREATED;VALUE=DATE-TIME:20230410T175011Z
DESCRIPTION:<p>Evento do PET-Filosofia com o tema "Filosofia e justiça so
 cial"</p>
LAST-MODIFIED;VALUE=DATE-TIME:20230414T133606Z
URL:http://150.164.76.86:8080/cac/agenda/9963192835788832502
END:VEVENT
BEGIN:VTIMEZONE
TZID:America/Sao_Paulo
X-LIC-LOCATION:America/Sao_Paulo
BEGIN:STANDARD
DTSTART;VALUE=DATE-TIME:20230225T230000
TZNAME:BRT
TZOFFSETFROM:-0200
TZOFFSETTO:-0300
END:STANDARD
END:VTIMEZONE
END:VCALENDAR
