BEGIN:VCALENDAR
VERSION:2.0
PRODID:-//Plone.org//NONSGML plone.app.event//EN
X-WR-TIMEZONE:America/Sao_Paulo
BEGIN:VEVENT
SUMMARY:Colação de Grau do IGC/UFMG em [ Auditorio Nobre do CAD 1]
DTSTART;TZID=America/Sao_Paulo;VALUE=DATE-TIME:20220816T180000
DTEND;TZID=America/Sao_Paulo;VALUE=DATE-TIME:20220816T210000
DTSTAMP;VALUE=DATE-TIME:20260422T024617Z
UID:c51905f38696454f9d27521b110dfb06@150.164.76.86:8080
CREATED;VALUE=DATE-TIME:20220514T220257Z
DESCRIPTION:Colação de Grau dos alunos do Instituto de Geociências da U
 FMG. Precisaremos do auditório\, bandeiras\, hino e telão para o clip do
 s formandos\, além de um local para os formandos vestirem suas becas.\n\n
 OBS\; Solicitamos a reserva para os dias 16 e 17 de agosto de 2022\, pois 
 ainda não sabemos o número total dos formandos dos cursos de Geografia (
 diurno e noturno)\, Geologia e Turismo.
LAST-MODIFIED;VALUE=DATE-TIME:20220524T132355Z
URL:http://150.164.76.86:8080/cac/agenda/9949770476754046089
END:VEVENT
BEGIN:VTIMEZONE
TZID:America/Sao_Paulo
X-LIC-LOCATION:America/Sao_Paulo
BEGIN:STANDARD
DTSTART;VALUE=DATE-TIME:20220219T230000
TZNAME:BRT
TZOFFSETFROM:-0200
TZOFFSETTO:-0300
END:STANDARD
END:VTIMEZONE
END:VCALENDAR
