BEGIN:VCALENDAR
VERSION:2.0
PRODID:-//Plone.org//NONSGML plone.app.event//EN
X-WR-TIMEZONE:America/Sao_Paulo
BEGIN:VEVENT
SUMMARY:Aula inaugural para os ingressantes do COLTEC em [ Auditorio 1A do
  CAD 1]
DTSTART;TZID=America/Sao_Paulo;VALUE=DATE-TIME:20240202T090000
DTEND;TZID=America/Sao_Paulo;VALUE=DATE-TIME:20240202T113000
DTSTAMP;VALUE=DATE-TIME:20260420T063242Z
UID:d945de7563634350ad8c003075d4ee36@150.164.76.86:8080
CREATED;VALUE=DATE-TIME:20231128T203638Z
DESCRIPTION:<p>Aula inaugural aos estudantes que ingressam no 1º ano dos 
 cursos integrados do Colégio Técnico.</p>
LAST-MODIFIED;VALUE=DATE-TIME:20231205T160527Z
URL:http://150.164.76.86:8080/cac/agenda/9946624513800594798
END:VEVENT
BEGIN:VTIMEZONE
TZID:America/Sao_Paulo
X-LIC-LOCATION:America/Sao_Paulo
BEGIN:DAYLIGHT
DTSTART;VALUE=DATE-TIME:20231015T010000
TZNAME:BRST
TZOFFSETFROM:-0300
TZOFFSETTO:-0200
END:DAYLIGHT
END:VTIMEZONE
END:VCALENDAR
