BEGIN:VCALENDAR
VERSION:2.0
PRODID:-//Plone.org//NONSGML plone.app.event//EN
X-WR-TIMEZONE:America/Sao_Paulo
BEGIN:VEVENT
SUMMARY:Canada Day at UFMG em [ Auditório B106 do CAD3]
DTSTART;TZID=America/Sao_Paulo;VALUE=DATE-TIME:20220824T100000
DTEND;TZID=America/Sao_Paulo;VALUE=DATE-TIME:20220824T150000
DTSTAMP;VALUE=DATE-TIME:20260422T031739Z
UID:b9f2cfe713ea4698b24978c296df9278@150.164.76.86:8080
CREATED;VALUE=DATE-TIME:20220718T173833Z
DESCRIPTION:<p>Equipamentos: Telão\, projetor\, microfone Descrição do 
 evento: CANADA DAY AT THE FEDERAL UNIVERSITY OF MINAS GERAIS (UFMG) Thursd
 ay\, August 24th\, 2022 12:00Noon to 02:00pm 12h00 – 12h15 - Welcome Dri
 nks 12h15 – 12h20 - Initial remarks by the Federal University of Minas G
 erais 12h20 – 12h25 - Initial remarks by Consul Commercial Marie-Hélèn
 e Béland 12h25 – 12h40 - Overview on the Canadian Education sector by T
 C Franz Brandenberger 12h40 – 12h55 - CALDO on line presentation by….(
 TBC) 12h55 – 13h10 - Calgary University on line presentation by Freddy C
 aceres 13h10 – 13h25 - Brock University on line presentation by Abbas Su
 mar 13h25 – 13h40 - SMRT English Learning Tool presentation by João Cor
 rea 13h40 – 14h00 - Questions &amp\; Answers 14h00 - Closure</p>
LAST-MODIFIED;VALUE=DATE-TIME:20220803T180312Z
URL:http://150.164.76.86:8080/cac/agenda/9946453064082246697
END:VEVENT
BEGIN:VTIMEZONE
TZID:America/Sao_Paulo
X-LIC-LOCATION:America/Sao_Paulo
BEGIN:STANDARD
DTSTART;VALUE=DATE-TIME:20220219T230000
TZNAME:BRT
TZOFFSETFROM:-0200
TZOFFSETTO:-0300
END:STANDARD
END:VTIMEZONE
END:VCALENDAR
