BEGIN:VCALENDAR
VERSION:2.0
PRODID:-//Plone.org//NONSGML plone.app.event//EN
X-WR-TIMEZONE:America/Sao_Paulo
BEGIN:VEVENT
SUMMARY:Troca de Gestão Mult em [ Auditório B106 do CAD3]
DTSTART;TZID=America/Sao_Paulo;VALUE=DATE-TIME:20230623T163000
DTEND;TZID=America/Sao_Paulo;VALUE=DATE-TIME:20230623T203000
DTSTAMP;VALUE=DATE-TIME:20260421T121922Z
UID:888574e5f83b422b91f0f24a74dbb9bd@150.164.76.86:8080
CREATED;VALUE=DATE-TIME:20230524T175126Z
DESCRIPTION:<p>Evento de estudantes de engenharia química pertencentes a 
 empresa júnior Mult\, no qual passaremos por nossas metas e atingimentos 
 do semestre. É um evento que conta com a presença de professores do curs
 o e familiares dos alunos presentes. OBS: evento em modo aula</p>
LAST-MODIFIED;VALUE=DATE-TIME:20230524T193209Z
URL:http://150.164.76.86:8080/cac/agenda/9943003450807113682
END:VEVENT
BEGIN:VTIMEZONE
TZID:America/Sao_Paulo
X-LIC-LOCATION:America/Sao_Paulo
BEGIN:STANDARD
DTSTART;VALUE=DATE-TIME:20230225T230000
TZNAME:BRT
TZOFFSETFROM:-0200
TZOFFSETTO:-0300
END:STANDARD
END:VTIMEZONE
END:VCALENDAR
