BEGIN:VCALENDAR
VERSION:2.0
PRODID:-//Plone.org//NONSGML plone.app.event//EN
X-WR-TIMEZONE:America/Sao_Paulo
BEGIN:VEVENT
SUMMARY:Vestibular de Medicina da Faculdade FAME/Funjobe em [ Auditorio No
 bre do CAD 1 Auditorio 1A do CAD 1 Auditorio 2A do CAD 1 Outros espacos]
DTSTART;TZID=America/Sao_Paulo;VALUE=DATE-TIME:20241123T120000
DTEND;TZID=America/Sao_Paulo;VALUE=DATE-TIME:20241124T210000
DTSTAMP;VALUE=DATE-TIME:20260419T175624Z
UID:e64d6ecd70654acabeea703c89d63ed2@150.164.76.86:8080
CREATED;VALUE=DATE-TIME:20240821T141217Z
DESCRIPTION:<p><span> Vestibular de Medicina da Faculdade FAME/</span><sp
 an>Funjobe</span></p>
LAST-MODIFIED;VALUE=DATE-TIME:20240821T141237Z
URL:http://150.164.76.86:8080/cac/agenda/993810423748062377
END:VEVENT
BEGIN:VTIMEZONE
TZID:America/Sao_Paulo
X-LIC-LOCATION:America/Sao_Paulo
BEGIN:DAYLIGHT
DTSTART;VALUE=DATE-TIME:20241020T010000
TZNAME:BRST
TZOFFSETFROM:-0300
TZOFFSETTO:-0200
END:DAYLIGHT
END:VTIMEZONE
END:VCALENDAR
