BEGIN:VCALENDAR
VERSION:2.0
PRODID:-//Plone.org//NONSGML plone.app.event//EN
X-WR-TIMEZONE:America/Sao_Paulo
BEGIN:VEVENT
SUMMARY:Premiação OBMEP em [ Auditorio Nobre do CAD 1]
DTSTART;TZID=America/Sao_Paulo;VALUE=DATE-TIME:20221213T190000
DTEND;TZID=America/Sao_Paulo;VALUE=DATE-TIME:20221213T220000
DTSTAMP;VALUE=DATE-TIME:20260421T222329Z
UID:f924dfb6b66144299c72423c08a627a9@150.164.76.86:8080
CREATED;VALUE=DATE-TIME:20221020T165105Z
DESCRIPTION:<p>Entrega de medalhas para os alunos premiados na obmep. Prec
 isaremos dos microfones e projetor.</p>
LAST-MODIFIED;VALUE=DATE-TIME:20221123T143902Z
URL:http://150.164.76.86:8080/cac/agenda/9910661205077296497
END:VEVENT
BEGIN:VTIMEZONE
TZID:America/Sao_Paulo
X-LIC-LOCATION:America/Sao_Paulo
BEGIN:DAYLIGHT
DTSTART;VALUE=DATE-TIME:20221016T010000
TZNAME:BRST
TZOFFSETFROM:-0300
TZOFFSETTO:-0200
END:DAYLIGHT
END:VTIMEZONE
END:VCALENDAR
