BEGIN:VCALENDAR
VERSION:2.0
PRODID:-//Plone.org//NONSGML plone.app.event//EN
X-WR-TIMEZONE:America/Sao_Paulo
BEGIN:VEVENT
SUMMARY:Simpósio Mínero-Metalúrgico da UFMG em [ Outros espacos]
DTSTART;TZID=America/Sao_Paulo;VALUE=DATE-TIME:20241021T140000
DTEND;TZID=America/Sao_Paulo;VALUE=DATE-TIME:20241021T160000
DTSTAMP;VALUE=DATE-TIME:20260419T204214Z
UID:44de89da7f0a467fad3735ecc33d3ede@150.164.76.86:8080
CREATED;VALUE=DATE-TIME:20241016T181653Z
DESCRIPTION:<p align="justify" class="western"><span><b>Simpósio Mínero-
 Metalúrgico da UFMG</b></span> com abertura do vice-reitor</p>
LAST-MODIFIED;VALUE=DATE-TIME:20241016T181714Z
URL:http://150.164.76.86:8080/cac/agenda/9909460824697297439
END:VEVENT
BEGIN:VTIMEZONE
TZID:America/Sao_Paulo
X-LIC-LOCATION:America/Sao_Paulo
BEGIN:DAYLIGHT
DTSTART;VALUE=DATE-TIME:20241020T010000
TZNAME:BRST
TZOFFSETFROM:-0300
TZOFFSETTO:-0200
END:DAYLIGHT
END:VTIMEZONE
END:VCALENDAR
