BEGIN:VCALENDAR
VERSION:2.0
PRODID:-//Plone.org//NONSGML plone.app.event//EN
X-WR-TIMEZONE:America/Sao_Paulo
BEGIN:VEVENT
SUMMARY:Batalha de rap com economia solidária em [ Entorno da Praca de Se
 rvicos Arena da praça de serviços]
DTSTART;TZID=America/Sao_Paulo;VALUE=DATE-TIME:20240716T190000
DTEND;TZID=America/Sao_Paulo;VALUE=DATE-TIME:20240716T230000
DTSTAMP;VALUE=DATE-TIME:20260419T234707Z
UID:9697694efd3d435aaf4d67ad0104e316@150.164.76.86:8080
CREATED;VALUE=DATE-TIME:20240713T180215Z
DESCRIPTION:Atividade cultural que contará com Batalha de rima e uma expo
 sição de artes e serviços.\n19:00 organização das branquinhas de expo
 sição próximo a sede do DCE.\n20:30 inicia a Batalha  até o final do e
 vento. \n23:00 encerramento e organização do espaço
LAST-MODIFIED;VALUE=DATE-TIME:20240716T125904Z
URL:http://150.164.76.86:8080/cac/agenda/9908262532880549237
END:VEVENT
BEGIN:VTIMEZONE
TZID:America/Sao_Paulo
X-LIC-LOCATION:America/Sao_Paulo
BEGIN:STANDARD
DTSTART;VALUE=DATE-TIME:20240217T230000
TZNAME:BRT
TZOFFSETFROM:-0200
TZOFFSETTO:-0300
END:STANDARD
END:VTIMEZONE
END:VCALENDAR
