BEGIN:VCALENDAR
VERSION:2.0
PRODID:-//Plone.org//NONSGML plone.app.event//EN
X-WR-TIMEZONE:America/Sao_Paulo
BEGIN:VEVENT
SUMMARY:SSBS 2023 - UFMG Summer School on Brazilian Studies em [ Arena da 
 praça de serviços]
DTSTART;TZID=America/Sao_Paulo;VALUE=DATE-TIME:20230727T160000
DTEND;TZID=America/Sao_Paulo;VALUE=DATE-TIME:20230727T180000
DTSTAMP;VALUE=DATE-TIME:20260421T104236Z
UID:8cc15738515a486b8f4f46a3b939ae63@150.164.76.86:8080
CREATED;VALUE=DATE-TIME:20230726T165218Z
DESCRIPTION:Solicitamos reserva da arena da praça de serviços para ofere
 cer um aulão de capoeira para os alunos internacionais do \ncurso  SSBS 2
 023 - UFMG Summer School on Brazilian Studies. SSBS UFMG.\nHorário: 16h 
 às 18h \nData: 27/07/2023.\nUtilizaremos a caixa de som da CAC que já es
 tá com a equipe da DRI/UFMG.
LAST-MODIFIED;VALUE=DATE-TIME:20230726T181312Z
URL:http://150.164.76.86:8080/cac/agenda/9886005438062858586
END:VEVENT
BEGIN:VTIMEZONE
TZID:America/Sao_Paulo
X-LIC-LOCATION:America/Sao_Paulo
BEGIN:STANDARD
DTSTART;VALUE=DATE-TIME:20230225T230000
TZNAME:BRT
TZOFFSETFROM:-0200
TZOFFSETTO:-0300
END:STANDARD
END:VTIMEZONE
END:VCALENDAR
