BEGIN:VCALENDAR
VERSION:2.0
PRODID:-//Plone.org//NONSGML plone.app.event//EN
X-WR-TIMEZONE:America/Sao_Paulo
BEGIN:VEVENT
SUMMARY:Encontro Mineiro de Segurança Contra Incêndio em [ Auditorio A10
 2 do Cad 2 Outros espacos]
DTSTART;TZID=America/Sao_Paulo;VALUE=DATE-TIME:20230711T080000
DTEND;TZID=America/Sao_Paulo;VALUE=DATE-TIME:20230712T190000
DTSTAMP;VALUE=DATE-TIME:20260421T110429Z
UID:da06cd2f04e9429baa6395bcf4e27dc6@150.164.76.86:8080
CREATED;VALUE=DATE-TIME:20230604T170304Z
DESCRIPTION:<p>O Encontro Mineiro de Segurança Contra Incêndio pretende 
 reunir profissionais\, estudantes e professores que atuam\, ensinam e pesq
 uisam na área da Segurança Contra Incêndio. Essa é uma área extremame
 nte importante para o estado de MG e para o Brasil em face dos estado da m
 esma onde todos os anos acontecem incêndios nos edifícios com a morte de
  muitas pessoas e perdas financeiras avultadas. Assim\, é muito important
 e que a universidade em conjunto com associações profissionais e os corp
 os de bombeiros discutam esse tema. OBS: EVENTO OCORRERÁ EM MODO AULA.</p
 >
LAST-MODIFIED;VALUE=DATE-TIME:20230704T132142Z
URL:http://150.164.76.86:8080/cac/agenda/9884460373232204717
END:VEVENT
BEGIN:VTIMEZONE
TZID:America/Sao_Paulo
X-LIC-LOCATION:America/Sao_Paulo
BEGIN:STANDARD
DTSTART;VALUE=DATE-TIME:20230225T230000
TZNAME:BRT
TZOFFSETFROM:-0200
TZOFFSETTO:-0300
END:STANDARD
END:VTIMEZONE
END:VCALENDAR
