BEGIN:VCALENDAR
VERSION:2.0
PRODID:-//Plone.org//NONSGML plone.app.event//EN
X-WR-TIMEZONE:America/Sao_Paulo
BEGIN:VEVENT
SUMMARY:Festa do livro da UFMG em [ Entorno da Praca de Servicos Auditorio
  da Reitoria Arena da praça de serviços]
DTSTART;TZID=America/Sao_Paulo;VALUE=DATE-TIME:20230325T080000
DTEND;TZID=America/Sao_Paulo;VALUE=DATE-TIME:20230330T200000
DTSTAMP;VALUE=DATE-TIME:20260421T163537Z
UID:8754747ff3a24f67a78484984e7cdeb5@150.164.76.86:8080
CREATED;VALUE=DATE-TIME:20221118T151817Z
DESCRIPTION:<p>Cronograma: 25 de março 2023 (sábado) - Montagem das mesa
 s/bancadas pelas Editoras participantes 26 de março 2023 (domingo) - Mont
 agem dos livros/expositores 27 de março 2023 (segunda) 09h às 21h – ve
 nda de livros ao público 28 de março de 2023 (terça) 09h às 21h - vend
 a de livros ao público 29 de março de 2023 (quarta) 09h às 21h - venda 
 de livros ao público 30 de março 2023 (quinta) – Desmontagem das infra
 estruturas até às 19h 31 de março 2023 (sexta) – Prazo final para a r
 etirada das infraestruturas desmontadas no dia 30 de março Durante a real
 ização do evento haverá uma programação cultural que ficará sob a re
 sponsabilidade da Pró-Reitoria de Cultura. Toda a infraestrutura para a r
 ealização do evento será contratada pela Editora UFMG.</p>
LAST-MODIFIED;VALUE=DATE-TIME:20230314T123253Z
URL:http://150.164.76.86:8080/cac/agenda/9876598050020510493
END:VEVENT
BEGIN:VTIMEZONE
TZID:America/Sao_Paulo
X-LIC-LOCATION:America/Sao_Paulo
BEGIN:STANDARD
DTSTART;VALUE=DATE-TIME:20230225T230000
TZNAME:BRT
TZOFFSETFROM:-0200
TZOFFSETTO:-0300
END:STANDARD
END:VTIMEZONE
END:VCALENDAR
