BEGIN:VCALENDAR
VERSION:2.0
PRODID:-//Plone.org//NONSGML plone.app.event//EN
X-WR-TIMEZONE:America/Sao_Paulo
BEGIN:VEVENT
SUMMARY:Reunião CEPE em [ Outros espacos]
DTSTART;TZID=America/Sao_Paulo;VALUE=DATE-TIME:20231026T140000
DTEND;TZID=America/Sao_Paulo;VALUE=DATE-TIME:20231026T180000
DTSTAMP;VALUE=DATE-TIME:20260420T214525Z
UID:fcd3a609e071464db489fca6dc7bb759@150.164.76.86:8080
CREATED;VALUE=DATE-TIME:20231022T161638Z
DESCRIPTION:<p>Reunião CEPE com gravação em áudio</p>
LAST-MODIFIED;VALUE=DATE-TIME:20231022T161656Z
URL:http://150.164.76.86:8080/cac/agenda/9833337606684024858
END:VEVENT
BEGIN:VTIMEZONE
TZID:America/Sao_Paulo
X-LIC-LOCATION:America/Sao_Paulo
BEGIN:DAYLIGHT
DTSTART;VALUE=DATE-TIME:20231015T010000
TZNAME:BRST
TZOFFSETFROM:-0300
TZOFFSETTO:-0200
END:DAYLIGHT
END:VTIMEZONE
END:VCALENDAR
