BEGIN:VCALENDAR
VERSION:2.0
PRODID:-//Plone.org//NONSGML plone.app.event//EN
X-WR-TIMEZONE:America/Sao_Paulo
BEGIN:VEVENT
SUMMARY:Feriado Confraternização Universal em [ Saguao da Reitoria Audit
 orio da Reitoria Gramado da Reitoria Entorno da Praca de Servicos Auditori
 o Nobre do CAD 1 Auditorio 1A do CAD 1 Auditorio 2A do CAD 1 Auditorio A10
 2 do Cad 2 Auditorio A104 do Cad 2 Arena da praça de serviços Auditório
  B302 do CAD 3 Auditório B101/102 do CAD 3 Auditório B301 do CAD 3]
DTSTART;TZID=America/Sao_Paulo;VALUE=DATE-TIME:20220101T010000
DTEND;TZID=America/Sao_Paulo;VALUE=DATE-TIME:20220101T230000
DTSTAMP;VALUE=DATE-TIME:20260422T124934Z
UID:8832b22805b54a7e95e70836fe9ab15e@150.164.76.86:8080
CREATED;VALUE=DATE-TIME:20211122T151335Z
DESCRIPTION:<p>.</p>
LAST-MODIFIED;VALUE=DATE-TIME:20250523T140311Z
URL:http://150.164.76.86:8080/cac/agenda/9825715506067994967
END:VEVENT
BEGIN:VTIMEZONE
TZID:America/Sao_Paulo
X-LIC-LOCATION:America/Sao_Paulo
BEGIN:DAYLIGHT
DTSTART;VALUE=DATE-TIME:20211017T010000
TZNAME:BRST
TZOFFSETFROM:-0300
TZOFFSETTO:-0200
END:DAYLIGHT
END:VTIMEZONE
END:VCALENDAR
