BEGIN:VCALENDAR
VERSION:2.0
PRODID:-//Plone.org//NONSGML plone.app.event//EN
X-WR-TIMEZONE:America/Sao_Paulo
BEGIN:VEVENT
SUMMARY:Recepção de calouros - parte 2 em [ Auditorio A102 do Cad 2]
DTSTART;TZID=America/Sao_Paulo;VALUE=DATE-TIME:20230424T160000
DTEND;TZID=America/Sao_Paulo;VALUE=DATE-TIME:20230424T210000
DTSTAMP;VALUE=DATE-TIME:20260421T152429Z
UID:80afd32219054de49989143673332d71@150.164.76.86:8080
CREATED;VALUE=DATE-TIME:20230414T145646Z
DESCRIPTION:<p>Evento havia sido cancelado mas pediram nova agendamento.</
 p>
LAST-MODIFIED;VALUE=DATE-TIME:20230420T193905Z
URL:http://150.164.76.86:8080/cac/agenda/9771450109008310712
END:VEVENT
BEGIN:VTIMEZONE
TZID:America/Sao_Paulo
X-LIC-LOCATION:America/Sao_Paulo
BEGIN:STANDARD
DTSTART;VALUE=DATE-TIME:20230225T230000
TZNAME:BRT
TZOFFSETFROM:-0200
TZOFFSETTO:-0300
END:STANDARD
END:VTIMEZONE
END:VCALENDAR
