BEGIN:VCALENDAR
VERSION:2.0
PRODID:-//Plone.org//NONSGML plone.app.event//EN
X-WR-TIMEZONE:America/Sao_Paulo
BEGIN:VEVENT
SUMMARY:Genomics and Precision Health in Iberoamerica em [ Auditório B101
 /102 do CAD 3]
DTSTART;TZID=America/Sao_Paulo;VALUE=DATE-TIME:20240607T130000
DTEND;TZID=America/Sao_Paulo;VALUE=DATE-TIME:20240607T170000
DTSTAMP;VALUE=DATE-TIME:20260420T012546Z
UID:bb2ebf7620d44de9ad25e7e87c20ad1c@150.164.76.86:8080
CREATED;VALUE=DATE-TIME:20240523T115509Z
DESCRIPTION:<p>Duas palestras de pesquisadores internacionais convidados v
 ia projeto FAPEMIG\, organizado pelos Programas de PG em Genética e Bioin
 formática Título do evento: Genomics and Precision Health in Iberoameric
 a Data: 7 de junho\, 14 horas Lugar: auditório B101- CAD3 14:00-14:15 Edu
 ardo Tarazona Santos (ICB-UFMG): Introduction 14:15-14:20 Apresentação d
 o Prêmio de Farmacogenética José Maria Cantú 14:20-15:00: Eva Peñas L
 ledó (Universidad de Extremadura): Pharmacogenetics\, mental health and s
 uicide 15:00-15:40: Adrián Llerena (Universidad de Extremadura): Implemen
 tation of clinical pharmacogenetic in public health services 15:40-15:50 Q
 uestions Organizadores: (coloquei mas não precisa ser por ordem alfabéti
 ca): INCT Ancestralidade Genômica Brasileira Laboratório de Diversidade 
 Genética Humana Mosaico Translational Genomics Programa de Pós-graduaç
 ão em Genética Programa de Pós-graduação em Bioinformática Rede Iber
 oamericana de Farmacogenética (RIBEF) Rede Mineira de Genômica Populacio
 nal e Medicina de Precisão</p>
LAST-MODIFIED;VALUE=DATE-TIME:20240529T185437Z
URL:http://150.164.76.86:8080/cac/agenda/9741421181433472005
END:VEVENT
BEGIN:VTIMEZONE
TZID:America/Sao_Paulo
X-LIC-LOCATION:America/Sao_Paulo
BEGIN:STANDARD
DTSTART;VALUE=DATE-TIME:20240217T230000
TZNAME:BRT
TZOFFSETFROM:-0200
TZOFFSETTO:-0300
END:STANDARD
END:VTIMEZONE
END:VCALENDAR
