BEGIN:VCALENDAR
VERSION:2.0
PRODID:-//Plone.org//NONSGML plone.app.event//EN
X-WR-TIMEZONE:America/Sao_Paulo
BEGIN:VEVENT
SUMMARY:A angústia na experiência analítica do século XXI em [ Auditor
 io A102 do Cad 2]
DTSTART;TZID=America/Sao_Paulo;VALUE=DATE-TIME:20240621T080000
DTEND;TZID=America/Sao_Paulo;VALUE=DATE-TIME:20240621T123000
DTSTAMP;VALUE=DATE-TIME:20260420T013101Z
UID:81b53896e7b049e3934311859d766b2a@150.164.76.86:8080
CREATED;VALUE=DATE-TIME:20240617T133243Z
DESCRIPTION:<p>Introdução e justificativa Trata-se de um seminário sobr
 e a « Angústia »\, conceito clínico presente desde a obra de Freud\, v
 isando elucidar\, a partir do ensino de Lacan\, a incidência desse afeto 
 que não engana na experiência analítica hoje. Propõe-se também o deba
 te sobre como esse afeto se apresenta na Universidade e\, mais precisament
 e\, nas experiências dos discentes a partir de suas práticas de pesquisa
 . O Seminário A angústia na experiência analítica do século XXI terá
  a presença de Ricardo Seldes como convidado internacional. Em uma breve 
 apresentação\, Ricardo Seldes é Analista Membro (AME) da Escola da Orie
 ntação Lacaniana (EOL) e da Associação Mundial de Psicanálise (AMP). 
 Tem sua prática em Buenos Aires. É presidente da Federação Americana d
 e Psicanálise da Orientação Lacaniana (FAPOL) e Vice-presidente da AMP.
  Professor no Mestrado em Clínica Psicanalítica da Universidade de San M
 artin em Buenos Aires\, Argentina. O evento acontecerá em dois momentos p
 rincipais: O primeiro em uma Conferência acerca do tema da angústia na e
 xperiência analítica\, por Ricardo Seldes\, seguido de intervenções po
 r discentes e docentes vinculados ao Lab21 (Psicanálise no Século XXI) d
 o Depto. de Psicologia da UFMG e também ao Programa Janela da Escuta vinc
 ulado ao Hospital das Clínicas/UFMG. E no segundo momento\, serão aprese
 ntados trabalhos de pesquisa por discentes do Programa de Pós-Graduação
  em Psicologia\, vinculados à área de concentração de Estudos Psicanal
 íticos\, em articulação ao tema da angústia como conceito orientador. 
 Programação 9h - Abertura: Psicanálise e Universidade Apresentam: Gilso
 n Iannini e Cristiane Grillo Coordena: Fernanda Otoni 9h15 - A angústia n
 a Experiência Analítica Apresenta: Ricardo Seldes Conversam: Ana Sanders
 \, Aruã Siman\, Cristiane Grillo e Gabriela Ferreira Coordena: Gilson Ian
 nini 10h45 - A angústia no século XXI Apresentam: Bárbara Afonso\, Helo
 isa Bede\, Olivia Viana\, Vinicius Lima Conversam: Ricardo Seldes e Cleide
  Pereira Monteiro Coordena: Antonio Teixeira</p>
LAST-MODIFIED;VALUE=DATE-TIME:20240619T194300Z
URL:http://150.164.76.86:8080/cac/agenda/9735250424174057419
END:VEVENT
BEGIN:VTIMEZONE
TZID:America/Sao_Paulo
X-LIC-LOCATION:America/Sao_Paulo
BEGIN:STANDARD
DTSTART;VALUE=DATE-TIME:20240217T230000
TZNAME:BRT
TZOFFSETFROM:-0200
TZOFFSETTO:-0300
END:STANDARD
END:VTIMEZONE
END:VCALENDAR
