BEGIN:VCALENDAR
VERSION:2.0
PRODID:-//Plone.org//NONSGML plone.app.event//EN
X-WR-TIMEZONE:America/Sao_Paulo
BEGIN:VEVENT
SUMMARY:Reunião de equipe da Prograd em [ Auditório B106 do CAD3]
DTSTART;TZID=America/Sao_Paulo;VALUE=DATE-TIME:20220930T140000
DTEND;TZID=America/Sao_Paulo;VALUE=DATE-TIME:20220930T163000
DTSTAMP;VALUE=DATE-TIME:20260422T012758Z
UID:7f5f35f1b29a4cc3bf3b0233ef439621@150.164.76.86:8080
CREATED;VALUE=DATE-TIME:20220920T122600Z
DESCRIPTION:Microfone de mesa e projetor.
LAST-MODIFIED;VALUE=DATE-TIME:20220922T181011Z
URL:http://150.164.76.86:8080/cac/agenda/9731791507685362492
END:VEVENT
BEGIN:VTIMEZONE
TZID:America/Sao_Paulo
X-LIC-LOCATION:America/Sao_Paulo
BEGIN:STANDARD
DTSTART;VALUE=DATE-TIME:20220219T230000
TZNAME:BRT
TZOFFSETFROM:-0200
TZOFFSETTO:-0300
END:STANDARD
END:VTIMEZONE
END:VCALENDAR
