BEGIN:VCALENDAR
VERSION:2.0
PRODID:-//Plone.org//NONSGML plone.app.event//EN
X-WR-TIMEZONE:America/Sao_Paulo
BEGIN:VEVENT
SUMMARY:CAPACIDADE EXCEDIDA em [ Saguao da Reitoria Auditorio da Reitoria 
 Gramado da Reitoria Entorno da Praca de Servicos Auditorio Nobre do CAD 1 
 Auditorio 1A do CAD 1 Auditorio 2A do CAD 1 Auditorio A102 do Cad 2 Audito
 rio A104 do Cad 2 Auditório B302 do CAD 3 Auditório B101/102 do CAD 3 Au
 ditório B301 do CAD 3]
DTSTART;TZID=America/Sao_Paulo;VALUE=DATE-TIME:20201119T180000
DTEND;TZID=America/Sao_Paulo;VALUE=DATE-TIME:20201119T230000
DTSTAMP;VALUE=DATE-TIME:20260424T161103Z
UID:70a14c5d686b4979bb9ae3d10c62adb0@150.164.76.86:8080
CREATED;VALUE=DATE-TIME:20200219T131914Z
DESCRIPTION:<p>.</p>
LAST-MODIFIED;VALUE=DATE-TIME:20230111T201044Z
URL:http://150.164.76.86:8080/cac/agenda/9719147658394374521
END:VEVENT
BEGIN:VTIMEZONE
TZID:America/Sao_Paulo
X-LIC-LOCATION:America/Sao_Paulo
BEGIN:DAYLIGHT
DTSTART;VALUE=DATE-TIME:20201018T010000
TZNAME:BRST
TZOFFSETFROM:-0300
TZOFFSETTO:-0200
END:DAYLIGHT
END:VTIMEZONE
END:VCALENDAR
