BEGIN:VCALENDAR
VERSION:2.0
PRODID:-//Plone.org//NONSGML plone.app.event//EN
X-WR-TIMEZONE:America/Sao_Paulo
BEGIN:VEVENT
SUMMARY:MiniDebConf 2024 em [ Auditório B101/102 do CAD 3]
DTSTART;TZID=America/Sao_Paulo;VALUE=DATE-TIME:20240425T090000
DTEND;TZID=America/Sao_Paulo;VALUE=DATE-TIME:20240430T210000
DTSTAMP;VALUE=DATE-TIME:20260420T044525Z
UID:7e401e3ee8204ed0b7e77f31009b4112@150.164.76.86:8080
CREATED;VALUE=DATE-TIME:20231110T162834Z
DESCRIPTION:<p>"MiniDebConf 2024" em modo aula.</p>\n<p>Obs CAC: foi ajust
 ado com professor responsável e com DCC (Gilmara) que não temos mais o "
 modo aula" para eventos\, e o técnico do ICEX irá atender e acompanhar.<
 /p>
LAST-MODIFIED;VALUE=DATE-TIME:20240320T130919Z
URL:http://150.164.76.86:8080/cac/agenda/9711221454010047765
END:VEVENT
BEGIN:VTIMEZONE
TZID:America/Sao_Paulo
X-LIC-LOCATION:America/Sao_Paulo
BEGIN:STANDARD
DTSTART;VALUE=DATE-TIME:20240217T230000
TZNAME:BRT
TZOFFSETFROM:-0200
TZOFFSETTO:-0300
END:STANDARD
END:VTIMEZONE
END:VCALENDAR
