BEGIN:VCALENDAR
VERSION:2.0
PRODID:-//Plone.org//NONSGML plone.app.event//EN
X-WR-TIMEZONE:America/Sao_Paulo
BEGIN:VEVENT
SUMMARY:10º Aniversário do Instituto Confúcio da UFMG em [ Auditorio A1
 02 do Cad 2 Auditorio A104 do Cad 2]
DTSTART;TZID=America/Sao_Paulo;VALUE=DATE-TIME:20231124T080000
DTEND;TZID=America/Sao_Paulo;VALUE=DATE-TIME:20231124T190000
DTSTAMP;VALUE=DATE-TIME:20260420T143029Z
UID:ba51d054da104792b020cf3969ec1dc6@150.164.76.86:8080
CREATED;VALUE=DATE-TIME:20231106T153030Z
DESCRIPTION:<p>10º Aniversário do Instituto Confúcio da UFMG - Será ne
 cessário púlpito modelo de aço\, microfone\, toalha para composição d
 e mesa\, bandeiras da UFMG\, Minas Gerais\, Brasil e China (1.90m x 1.30m)
 \, mastros modelo maior\, data show\, equipe de sonorização e iluminaç
 ão\, camarim para apresentação do Grupo Sarandeiros. Copos de vidro e j
 arras de água.</p>
LAST-MODIFIED;VALUE=DATE-TIME:20231117T183533Z
URL:http://150.164.76.86:8080/cac/agenda/9708701729409504743
END:VEVENT
BEGIN:VTIMEZONE
TZID:America/Sao_Paulo
X-LIC-LOCATION:America/Sao_Paulo
BEGIN:DAYLIGHT
DTSTART;VALUE=DATE-TIME:20231015T010000
TZNAME:BRST
TZOFFSETFROM:-0300
TZOFFSETTO:-0200
END:DAYLIGHT
END:VTIMEZONE
END:VCALENDAR
