BEGIN:VCALENDAR
VERSION:2.0
PRODID:-//Plone.org//NONSGML plone.app.event//EN
X-WR-TIMEZONE:America/Sao_Paulo
BEGIN:VEVENT
SUMMARY:Colação de Grau em [ Auditorio Nobre do CAD 1]
DTSTART;TZID=America/Sao_Paulo;VALUE=DATE-TIME:20250225T183000
DTEND;TZID=America/Sao_Paulo;VALUE=DATE-TIME:20250225T210000
DTSTAMP;VALUE=DATE-TIME:20260419T132106Z
UID:c0d7eb3f2af64f368d478b5473fa97f7@150.164.76.86:8080
CREATED;VALUE=DATE-TIME:20250131T180227Z
DESCRIPTION:<p>Colação de Grau Oficial do Curso de Pedagogia da Faculdad
 e de Educação. Necessário equipamentos e equipe de audiovisual para apr
 esentação de vídeo e músicas da formatura. Mesa\, púlpito\, microfone
 s\, etc.</p>
LAST-MODIFIED;VALUE=DATE-TIME:20250205T123121Z
URL:http://150.164.76.86:8080/cac/agenda/9702116734804888972
END:VEVENT
BEGIN:VTIMEZONE
TZID:America/Sao_Paulo
X-LIC-LOCATION:America/Sao_Paulo
BEGIN:STANDARD
DTSTART;VALUE=DATE-TIME:20250215T230000
TZNAME:BRT
TZOFFSETFROM:-0200
TZOFFSETTO:-0300
END:STANDARD
END:VTIMEZONE
END:VCALENDAR
