BEGIN:VCALENDAR
VERSION:2.0
PRODID:-//Plone.org//NONSGML plone.app.event//EN
X-WR-TIMEZONE:America/Sao_Paulo
BEGIN:VEVENT
SUMMARY:Reunião CEPE em [ Outros espacos]
DTSTART;TZID=America/Sao_Paulo;VALUE=DATE-TIME:20241205T140000
DTEND;TZID=America/Sao_Paulo;VALUE=DATE-TIME:20241205T180000
DTSTAMP;VALUE=DATE-TIME:20260419T163437Z
UID:e31c50079672400bb5b09985f8dfecf1@150.164.76.86:8080
CREATED;VALUE=DATE-TIME:20241129T113517Z
DESCRIPTION:<p>Gravar áudio</p>
LAST-MODIFIED;VALUE=DATE-TIME:20241129T113531Z
URL:http://150.164.76.86:8080/cac/agenda/970052657629092874
END:VEVENT
BEGIN:VTIMEZONE
TZID:America/Sao_Paulo
X-LIC-LOCATION:America/Sao_Paulo
BEGIN:DAYLIGHT
DTSTART;VALUE=DATE-TIME:20241020T010000
TZNAME:BRST
TZOFFSETFROM:-0300
TZOFFSETTO:-0200
END:DAYLIGHT
END:VTIMEZONE
END:VCALENDAR
