BEGIN:VCALENDAR
VERSION:2.0
PRODID:-//Plone.org//NONSGML plone.app.event//EN
X-WR-TIMEZONE:America/Sao_Paulo
BEGIN:VEVENT
SUMMARY:Reunião de Equipe em [ Outros espacos]
DTSTART;TZID=America/Sao_Paulo;VALUE=DATE-TIME:20230317T093000
DTEND;TZID=America/Sao_Paulo;VALUE=DATE-TIME:20230317T123000
DTSTAMP;VALUE=DATE-TIME:20260421T164444Z
UID:80dec6148a284a809358ae91ddfcaf0e@150.164.76.86:8080
CREATED;VALUE=DATE-TIME:20230315T153324Z
DESCRIPTION:<p>Reunião </p>
LAST-MODIFIED;VALUE=DATE-TIME:20230315T153333Z
URL:http://150.164.76.86:8080/cac/agenda/9696904793470582389
END:VEVENT
BEGIN:VTIMEZONE
TZID:America/Sao_Paulo
X-LIC-LOCATION:America/Sao_Paulo
BEGIN:STANDARD
DTSTART;VALUE=DATE-TIME:20230225T230000
TZNAME:BRT
TZOFFSETFROM:-0200
TZOFFSETTO:-0300
END:STANDARD
END:VTIMEZONE
END:VCALENDAR
