BEGIN:VCALENDAR
VERSION:2.0
PRODID:-//Plone.org//NONSGML plone.app.event//EN
X-WR-TIMEZONE:America/Sao_Paulo
BEGIN:VEVENT
SUMMARY:Reunião Conselho Universitário em [ Outros espacos]
DTSTART;TZID=America/Sao_Paulo;VALUE=DATE-TIME:20231220T140000
DTEND;TZID=America/Sao_Paulo;VALUE=DATE-TIME:20231220T170000
DTSTAMP;VALUE=DATE-TIME:20260420T114407Z
UID:6927ac30d154439bbb4ecac8e29dd412@150.164.76.86:8080
CREATED;VALUE=DATE-TIME:20231219T105423Z
DESCRIPTION:<p><span><span><span>Funcionário(s) para operar o equipamento
  multimídia da Sala das Sessões e para gravar em áudio a reunião</span
 ></span></span></p>
LAST-MODIFIED;VALUE=DATE-TIME:20231219T105446Z
URL:http://150.164.76.86:8080/cac/agenda/9687800964900628849
END:VEVENT
BEGIN:VTIMEZONE
TZID:America/Sao_Paulo
X-LIC-LOCATION:America/Sao_Paulo
BEGIN:DAYLIGHT
DTSTART;VALUE=DATE-TIME:20231015T010000
TZNAME:BRST
TZOFFSETFROM:-0300
TZOFFSETTO:-0200
END:DAYLIGHT
END:VTIMEZONE
END:VCALENDAR
