BEGIN:VCALENDAR
VERSION:2.0
PRODID:-//Plone.org//NONSGML plone.app.event//EN
X-WR-TIMEZONE:America/Sao_Paulo
BEGIN:VEVENT
SUMMARY:Troca de Gestão AEROJR. em [ Auditório B101/102 do CAD 3]
DTSTART;TZID=America/Sao_Paulo;VALUE=DATE-TIME:20241219T160000
DTEND;TZID=America/Sao_Paulo;VALUE=DATE-TIME:20241219T210000
DTSTAMP;VALUE=DATE-TIME:20260419T164402Z
UID:9efe9045f6a049ad9de69a6eeab63922@150.164.76.86:8080
CREATED;VALUE=DATE-TIME:20241213T131000Z
DESCRIPTION:Serão necessários apenas o funcionamento de projetores para 
 a realização do evento. Passadores de slides não são necessários.
LAST-MODIFIED;VALUE=DATE-TIME:20241213T163357Z
URL:http://150.164.76.86:8080/cac/agenda/9686698341468056535
END:VEVENT
BEGIN:VTIMEZONE
TZID:America/Sao_Paulo
X-LIC-LOCATION:America/Sao_Paulo
BEGIN:DAYLIGHT
DTSTART;VALUE=DATE-TIME:20241020T010000
TZNAME:BRST
TZOFFSETFROM:-0300
TZOFFSETTO:-0200
END:DAYLIGHT
END:VTIMEZONE
END:VCALENDAR
