BEGIN:VCALENDAR
VERSION:2.0
PRODID:-//Plone.org//NONSGML plone.app.event//EN
X-WR-TIMEZONE:America/Sao_Paulo
BEGIN:VEVENT
SUMMARY:Reunião Conselho Universitário em [ Outros espacos]
DTSTART;TZID=America/Sao_Paulo;VALUE=DATE-TIME:20230629T140000
DTEND;TZID=America/Sao_Paulo;VALUE=DATE-TIME:20230629T180000
DTSTAMP;VALUE=DATE-TIME:20260421T115833Z
UID:92b8766f49b94f0687fccdbf62480689@150.164.76.86:8080
CREATED;VALUE=DATE-TIME:20230623T123723Z
DESCRIPTION:<p>gravação de áudio</p>
LAST-MODIFIED;VALUE=DATE-TIME:20230623T123811Z
URL:http://150.164.76.86:8080/cac/agenda/9678301941613343281
END:VEVENT
BEGIN:VTIMEZONE
TZID:America/Sao_Paulo
X-LIC-LOCATION:America/Sao_Paulo
BEGIN:STANDARD
DTSTART;VALUE=DATE-TIME:20230225T230000
TZNAME:BRT
TZOFFSETFROM:-0200
TZOFFSETTO:-0300
END:STANDARD
END:VTIMEZONE
END:VCALENDAR
