BEGIN:VCALENDAR
VERSION:2.0
PRODID:-//Plone.org//NONSGML plone.app.event//EN
X-WR-TIMEZONE:America/Sao_Paulo
BEGIN:VEVENT
SUMMARY:teste em [ Auditorio da Reitoria]
DTSTART;TZID=America/Sao_Paulo;VALUE=DATE-TIME:20230401T170000
DTEND;TZID=America/Sao_Paulo;VALUE=DATE-TIME:20230401T180000
DTSTAMP;VALUE=DATE-TIME:20260421T132754Z
UID:0246ad664dd34c5d8bc9b534b532ccc4@150.164.76.86:8080
CREATED;VALUE=DATE-TIME:20230331T202135Z
DESCRIPTION:<p>kkkkkkkkkkkkkkkkkkkkkk</p>
LAST-MODIFIED;VALUE=DATE-TIME:20230331T202239Z
URL:http://150.164.76.86:8080/cac/agenda/9674470181455917718
END:VEVENT
BEGIN:VTIMEZONE
TZID:America/Sao_Paulo
X-LIC-LOCATION:America/Sao_Paulo
BEGIN:STANDARD
DTSTART;VALUE=DATE-TIME:20230225T230000
TZNAME:BRT
TZOFFSETFROM:-0200
TZOFFSETTO:-0300
END:STANDARD
END:VTIMEZONE
END:VCALENDAR
