BEGIN:VCALENDAR
VERSION:2.0
PRODID:-//Plone.org//NONSGML plone.app.event//EN
X-WR-TIMEZONE:America/Sao_Paulo
BEGIN:VEVENT
SUMMARY:Outorga Profa Emérita Dalila Andrade Oliveira em [ Outros espacos
 ]
DTSTART;TZID=America/Sao_Paulo;VALUE=DATE-TIME:20231002T180000
DTEND;TZID=America/Sao_Paulo;VALUE=DATE-TIME:20231002T200000
DTSTAMP;VALUE=DATE-TIME:20260420T130605Z
UID:c4671cb110b7412cbc2cc34c6c098a4c@150.164.76.86:8080
CREATED;VALUE=DATE-TIME:20230926T183632Z
DESCRIPTION:<p><span style="text-align: left\; text-decoration-thickness: 
 initial\; text-decoration-style: initial\; text-decoration-color: initial\
 ; float: none\; ">Outorga Profa Emérita Dalila Andrade Oliveira</span></p
 >
LAST-MODIFIED;VALUE=DATE-TIME:20230926T183643Z
URL:http://150.164.76.86:8080/cac/agenda/9648157852893603595
END:VEVENT
BEGIN:VTIMEZONE
TZID:America/Sao_Paulo
X-LIC-LOCATION:America/Sao_Paulo
BEGIN:STANDARD
DTSTART;VALUE=DATE-TIME:20230225T230000
TZNAME:BRT
TZOFFSETFROM:-0200
TZOFFSETTO:-0300
END:STANDARD
END:VTIMEZONE
END:VCALENDAR
