BEGIN:VCALENDAR
VERSION:2.0
PRODID:-//Plone.org//NONSGML plone.app.event//EN
X-WR-TIMEZONE:America/Sao_Paulo
BEGIN:VEVENT
SUMMARY:Feira da UFMG em [ Em torno da Praca de Servicos]
DTSTART;TZID=America/Sao_Paulo;VALUE=DATE-TIME:20221004T070000
DTEND;TZID=America/Sao_Paulo;VALUE=DATE-TIME:20221004T180000
DTSTAMP;VALUE=DATE-TIME:20260421T221617Z
UID:674712ee9669486c9c5e822ac1e6378a@150.164.76.86:8080
CREATED;VALUE=DATE-TIME:20220705T202415Z
DESCRIPTION:Não será necessário nenhum equipamento ou serviço.
LAST-MODIFIED;VALUE=DATE-TIME:20220706T143015Z
URL:http://150.164.76.86:8080/cac/agenda/9613457040657814016
END:VEVENT
BEGIN:VTIMEZONE
TZID:America/Sao_Paulo
X-LIC-LOCATION:America/Sao_Paulo
BEGIN:STANDARD
DTSTART;VALUE=DATE-TIME:20220219T230000
TZNAME:BRT
TZOFFSETFROM:-0200
TZOFFSETTO:-0300
END:STANDARD
END:VTIMEZONE
END:VCALENDAR
