BEGIN:VCALENDAR
VERSION:2.0
PRODID:-//Plone.org//NONSGML plone.app.event//EN
X-WR-TIMEZONE:America/Sao_Paulo
BEGIN:VEVENT
SUMMARY:II Círculo de debates COMFIC Convida 2023 em [ Auditorio A102 do 
 Cad 2]
DTSTART;TZID=America/Sao_Paulo;VALUE=DATE-TIME:20230525T090000
DTEND;TZID=America/Sao_Paulo;VALUE=DATE-TIME:20230525T120000
DTSTAMP;VALUE=DATE-TIME:20260421T134046Z
UID:a6234e641d454975b9eca249f454bd69@150.164.76.86:8080
CREATED;VALUE=DATE-TIME:20230404T235045Z
DESCRIPTION:<p>Tema: Estágios supervisionados nas Licenciaturas da UFMG: 
 mapeamento e reflexões Formato: Abertura (10 min)\, Apresentação dos da
 dos (40 min)\, seguida de debate</p>
LAST-MODIFIED;VALUE=DATE-TIME:20230510T152429Z
URL:http://150.164.76.86:8080/cac/agenda/9589937260726991469
END:VEVENT
BEGIN:VTIMEZONE
TZID:America/Sao_Paulo
X-LIC-LOCATION:America/Sao_Paulo
BEGIN:STANDARD
DTSTART;VALUE=DATE-TIME:20230225T230000
TZNAME:BRT
TZOFFSETFROM:-0200
TZOFFSETTO:-0300
END:STANDARD
END:VTIMEZONE
END:VCALENDAR
