BEGIN:VCALENDAR
VERSION:2.0
PRODID:-//Plone.org//NONSGML plone.app.event//EN
X-WR-TIMEZONE:America/Sao_Paulo
BEGIN:VEVENT
SUMMARY:Encontro Transdisciplinar IEAT - Semana do Conhecimento 2024 em [ 
 Auditorio A102 do Cad 2]
DTSTART;TZID=America/Sao_Paulo;VALUE=DATE-TIME:20241024T080000
DTEND;TZID=America/Sao_Paulo;VALUE=DATE-TIME:20241024T130000
DTSTAMP;VALUE=DATE-TIME:20260419T204454Z
UID:aa61138f363c4d8e8c5dd70484f08d08@150.164.76.86:8080
CREATED;VALUE=DATE-TIME:20241023T120800Z
DESCRIPTION:<p>Atividade como parte da programação da Semana do Conhecim
 ento 2024</p>
LAST-MODIFIED;VALUE=DATE-TIME:20241023T120833Z
URL:http://150.164.76.86:8080/cac/agenda/9585856053545422172
END:VEVENT
BEGIN:VTIMEZONE
TZID:America/Sao_Paulo
X-LIC-LOCATION:America/Sao_Paulo
BEGIN:DAYLIGHT
DTSTART;VALUE=DATE-TIME:20241020T010000
TZNAME:BRST
TZOFFSETFROM:-0300
TZOFFSETTO:-0200
END:DAYLIGHT
END:VTIMEZONE
END:VCALENDAR
