BEGIN:VCALENDAR
VERSION:2.0
PRODID:-//Plone.org//NONSGML plone.app.event//EN
X-WR-TIMEZONE:America/Sao_Paulo
BEGIN:VEVENT
SUMMARY:Reunião Sala de Sessões em [ Outros espacos]
DTSTART;TZID=America/Sao_Paulo;VALUE=DATE-TIME:20220704T110000
DTEND;TZID=America/Sao_Paulo;VALUE=DATE-TIME:20220704T140000
DTSTAMP;VALUE=DATE-TIME:20260422T030531Z
UID:d5a59238b6404f30925d26cabe06c7c1@150.164.76.86:8080
CREATED;VALUE=DATE-TIME:20220630T114944Z
DESCRIPTION:<p>Reunião </p>
LAST-MODIFIED;VALUE=DATE-TIME:20220630T115639Z
URL:http://150.164.76.86:8080/cac/agenda/9583831382156280764
END:VEVENT
BEGIN:VTIMEZONE
TZID:America/Sao_Paulo
X-LIC-LOCATION:America/Sao_Paulo
BEGIN:STANDARD
DTSTART;VALUE=DATE-TIME:20220219T230000
TZNAME:BRT
TZOFFSETFROM:-0200
TZOFFSETTO:-0300
END:STANDARD
END:VTIMEZONE
END:VCALENDAR
