BEGIN:VCALENDAR
VERSION:2.0
PRODID:-//Plone.org//NONSGML plone.app.event//EN
X-WR-TIMEZONE:America/Sao_Paulo
BEGIN:VEVENT
SUMMARY:Sorteio de vagas da EMEI Alaíde Lisboa em [ Outros espacos]
DTSTART;TZID=America/Sao_Paulo;VALUE=DATE-TIME:20221116T140000
DTEND;TZID=America/Sao_Paulo;VALUE=DATE-TIME:20221116T150000
DTSTAMP;VALUE=DATE-TIME:20260421T220918Z
UID:e0bddcb9a1a44e52b34d7dc7445442dc@150.164.76.86:8080
CREATED;VALUE=DATE-TIME:20220822T193510Z
DESCRIPTION:<div>Sorteio de vagas da EMEI Alaíde Lisboa\, no dia 16 de no
 vembro de 2022\, às 14hs.</div>\n<div>O sorteio será <i>on line</i>\, pa
 rticiparão: Marcilene\, Juliene e Edson ou Carlos Henrique\, porém\, ape
 nas duas pessoas em cena.</div>
LAST-MODIFIED;VALUE=DATE-TIME:20220823T194439Z
URL:http://150.164.76.86:8080/cac/agenda/957870995059094013
END:VEVENT
BEGIN:VTIMEZONE
TZID:America/Sao_Paulo
X-LIC-LOCATION:America/Sao_Paulo
BEGIN:DAYLIGHT
DTSTART;VALUE=DATE-TIME:20221016T010000
TZNAME:BRST
TZOFFSETFROM:-0300
TZOFFSETTO:-0200
END:DAYLIGHT
END:VTIMEZONE
END:VCALENDAR
