BEGIN:VCALENDAR
VERSION:2.0
PRODID:-//Plone.org//NONSGML plone.app.event//EN
X-WR-TIMEZONE:America/Sao_Paulo
BEGIN:VEVENT
SUMMARY:Ao Cair da Tarde em [ Arena da praça de serviços]
DTSTART;TZID=America/Sao_Paulo;VALUE=DATE-TIME:20220623T130000
DTEND;TZID=America/Sao_Paulo;VALUE=DATE-TIME:20220623T200000
DTSTAMP;VALUE=DATE-TIME:20260422T064746Z
UID:aff942021ae440028f5911d15b6d1eef@150.164.76.86:8080
CREATED;VALUE=DATE-TIME:20220419T184025Z
DESCRIPTION:<p>Em definição</p>
LAST-MODIFIED;VALUE=DATE-TIME:20220609T191220Z
URL:http://150.164.76.86:8080/cac/agenda/9547347451632211326
END:VEVENT
BEGIN:VTIMEZONE
TZID:America/Sao_Paulo
X-LIC-LOCATION:America/Sao_Paulo
BEGIN:STANDARD
DTSTART;VALUE=DATE-TIME:20220219T230000
TZNAME:BRT
TZOFFSETFROM:-0200
TZOFFSETTO:-0300
END:STANDARD
END:VTIMEZONE
END:VCALENDAR
