BEGIN:VCALENDAR
VERSION:2.0
PRODID:-//Plone.org//NONSGML plone.app.event//EN
X-WR-TIMEZONE:America/Sao_Paulo
BEGIN:VEVENT
SUMMARY:CAPACIDADE EXCEDIDA em [ Saguao da Reitoria Gramado da Reitoria Au
 ditorio 1A do CAD 1 Auditorio 2A do CAD 1 Arena da praça de serviços Aud
 itório B101 do CAD 3 Auditório B301 do CAD 3]
DTSTART;TZID=America/Sao_Paulo;VALUE=DATE-TIME:20200604T000000
DTEND;TZID=America/Sao_Paulo;VALUE=DATE-TIME:20200604T230000
DTSTAMP;VALUE=DATE-TIME:20260424T221704Z
UID:ce19e075899b42c28e787677456ddf1f@150.164.76.86:8080
CREATED;VALUE=DATE-TIME:20200205T154605Z
DESCRIPTION:<p>.</p>
LAST-MODIFIED;VALUE=DATE-TIME:20200205T154625Z
URL:http://150.164.76.86:8080/cac/agenda/9545049342713628208
END:VEVENT
BEGIN:VTIMEZONE
TZID:America/Sao_Paulo
X-LIC-LOCATION:America/Sao_Paulo
BEGIN:STANDARD
DTSTART;VALUE=DATE-TIME:20200215T230000
TZNAME:BRT
TZOFFSETFROM:-0200
TZOFFSETTO:-0300
END:STANDARD
END:VTIMEZONE
END:VCALENDAR
