BEGIN:VCALENDAR
VERSION:2.0
PRODID:-//Plone.org//NONSGML plone.app.event//EN
X-WR-TIMEZONE:America/Sao_Paulo
BEGIN:VEVENT
SUMMARY:BANCA DE HETEROIDENTIFICAÇÃO em [ Outros espacos Auditório B107
  do CAD3 - s/ ar condicionado Auditório B106 do CAD3 - s/ ar condicionado
 ]
DTSTART;TZID=America/Sao_Paulo;VALUE=DATE-TIME:20250327T070000
DTEND;TZID=America/Sao_Paulo;VALUE=DATE-TIME:20250327T190000
DTSTAMP;VALUE=DATE-TIME:20260419T120328Z
UID:8f742a33d8474e0da4318dae60e55fb2@150.164.76.86:8080
CREATED;VALUE=DATE-TIME:20250108T140619Z
DESCRIPTION:<p>27/3/2025 SISU 3ª Chamada e 3ª Antecipação CPAAI Banca 
 Recursal de Heteroidentificação dos candidatos indeferidos 27/3/2025 SIS
 U 4ª Chamada e 4ª Antecipação CPAAI Banca Recursal de Heteroidentifica
 ção dos candidatos indeferidos 27/3/2025 SISU 5ª Chamada CPAAI\, NAI Ba
 nca de Heteroidentificação e Banca de Verificação e Validação PCD 27
 /3/2025 HABILIDADES 2ª Chamada e 1ª Antecipação CPAAI Banca Recursal d
 e Heteroidentificação dos candidatos indeferidos 27/3/2025 HABILIDADES 3
 ª Chamada e 2ª Antecipação CPAAI Banca Recursal de Heteroidentificaç
 ão dos candidatos indeferidos 27/3/2025 HABILIDADES 4ª Chamada e 3ª Ant
 ecipação CPAAI\, NAI Banca de Heteroidentificação e Banca de Verifica
 ção e Validação PCD</p>
LAST-MODIFIED;VALUE=DATE-TIME:20250318T145923Z
URL:http://150.164.76.86:8080/cac/agenda/9543211439250322578
END:VEVENT
BEGIN:VTIMEZONE
TZID:America/Sao_Paulo
X-LIC-LOCATION:America/Sao_Paulo
BEGIN:STANDARD
DTSTART;VALUE=DATE-TIME:20250215T230000
TZNAME:BRT
TZOFFSETFROM:-0200
TZOFFSETTO:-0300
END:STANDARD
END:VTIMEZONE
END:VCALENDAR
