BEGIN:VCALENDAR
VERSION:2.0
PRODID:-//Plone.org//NONSGML plone.app.event//EN
X-WR-TIMEZONE:America/Sao_Paulo
BEGIN:VEVENT
SUMMARY:Série de Seminários CTVacinas em [ Outros espacos]
DTSTART;TZID=America/Sao_Paulo;VALUE=DATE-TIME:20230208T160000
DTEND;TZID=America/Sao_Paulo;VALUE=DATE-TIME:20230208T173000
DTSTAMP;VALUE=DATE-TIME:20260421T180832Z
UID:47e25aa9bf7843c198a32b7f16c4e424@150.164.76.86:8080
CREATED;VALUE=DATE-TIME:20230202T194012Z
DESCRIPTION:É a segunda palestra de uma série de Seminários do CTVacina
 s. O evento vai ser realizado no auditório do BH-TEC\, às 16h do dia 8\,
  uma quarta-feira.\n\nNão vai ter uma mesa\, apenas o palestrante no palc
 o. Um dos coordenadores do CTVacinas vai apresentá-lo antes do início da
  palestra\, mas apenas um microfone será usado.\n\nA CAC fez a transmiss
 ão no YouTube do evento que inaugurou a Série de Seminários do CTVacina
 s\, no dia 1º de fevereiro.\n\nUma câmera basta\, além de um microfone 
 com fio (no último evento\, o microfone disponibilizado pelo BH-TEC apres
 entou falhas).\n\nA transmissão será feita no próprio canal da CAC\, no
  YouTube. \n\nA previsão é que a palestra dure um pouco menos de 1h para
 \, na sequência\, os participantes terem oportunidade para fazer pergunta
 s. Coloquei 1h30 de duração para termos margem.\n\nQualquer dúvida\, es
 tou à disposição. Muitíssimo obrigado.
LAST-MODIFIED;VALUE=DATE-TIME:20230203T112234Z
URL:http://150.164.76.86:8080/cac/agenda/9534097312569900375
END:VEVENT
BEGIN:VTIMEZONE
TZID:America/Sao_Paulo
X-LIC-LOCATION:America/Sao_Paulo
BEGIN:DAYLIGHT
DTSTART;VALUE=DATE-TIME:20221016T010000
TZNAME:BRST
TZOFFSETFROM:-0300
TZOFFSETTO:-0200
END:DAYLIGHT
END:VTIMEZONE
END:VCALENDAR
